{"text_format":"3","workbook":"xlsx","n_sheets":1,"sheets":["打印版"],"not_rendered":{"defined_names":3},"read":"whole","date_system":"1900"}

{"sheet":"打印版","index":0,"n_rows":148,"n_cols":13,"rows_kept":148,"merged":[[0,0,0,5],[1,0,3,0],[1,1,3,1],[1,2,1,5],[2,2,3,2],[2,3,3,3],[2,4,3,4],[2,5,3,5],[3,7,3,12],[5,0,10,0],[11,0,15,0],[16,0,20,0],[21,0,26,0],[27,0,33,0],[34,0,36,0],[37,0,40,0],[41,0,44,0],[45,0,54,0],[55,0,63,0],[64,0,71,0],[72,0,77,0],[78,0,84,0],[85,0,92,0],[93,0,97,0],[99,0,111,0],[112,0,129,0],[130,0,146,0],[147,0,147,1]]}
["各农商银行2026年校园招聘需求人数表"]
["市州","农商银行","计划招聘人数"]
[null,null,"信息科技岗","专业技术岗","柜员岗","合计"]
[{"$nulls":7},"核算"]
["成都","简阳农商银行",20,29,0,{"$f":"C5+D5+E5","v":49},null,{"$f":"VLOOKUP(B5,#REF!,13,FALSE)","v":{"$error":"#REF!"}},{"$f":"IF(C5=H5,\"对\",\"错\")","v":{"$error":"#REF!"}},{"$f":"VLOOKUP(B5,#REF!,14,FALSE)","v":{"$error":"#REF!"}},{"$f":"IF(#REF!=J5,\"对\",\"错\")","v":{"$error":"#REF!"}},{"$f":"VLOOKUP(B5,#REF!,15,FALSE)","v":{"$error":"#REF!"}},{"$f":"IF(#REF!=L5,\"对\",\"错\")","v":{"$error":"#REF!"}}]
["自贡","自贡农商银行营业部",1,null,null,{"$f":"C6+D6+E6","v":1},null,{"$f":"VLOOKUP(B6,#REF!,13,FALSE)","v":{"$error":"#REF!"}},{"$error":"#REF!"},{"$f":"VLOOKUP(B6,#REF!,14,FALSE)","v":{"$error":"#REF!"}},{"$f":"IF(#REF!=J6,\"对\",\"错\")","v":{"$error":"#REF!"}},{"$f":"VLOOKUP(B6,#REF!,15,FALSE)","v":{"$error":"#REF!"}},{"$f":"IF(#REF!=L6,\"对\",\"错\")","v":{"$error":"#REF!"}}]
[null,"自贡农商银行自流井支行",1,3,1,5,null,{"$f":"VLOOKUP(B7,#REF!,13,FALSE)","v":{"$error":"#REF!"}},{"$error":"#REF!"},{"$f":"VLOOKUP(B7,#REF!,14,FALSE)","v":{"$error":"#REF!"}},{"$f":"IF(#REF!=J7,\"对\",\"错\")","v":{"$error":"#REF!"}},{"$f":"VLOOKUP(B7,#REF!,15,FALSE)","v":{"$error":"#REF!"}},{"$f":"IF(#REF!=L7,\"对\",\"错\")","v":{"$error":"#REF!"}}]
[null,"自贡农商银行贡井支行",null,2,2,4,null,{"$f":"VLOOKUP(B8,#REF!,13,FALSE)","v":{"$error":"#REF!"}},{"$error":"#REF!"},{"$f":"VLOOKUP(B8,#REF!,14,FALSE)","v":{"$error":"#REF!"}},{"$f":"IF(#REF!=J8,\"对\",\"错\")","v":{"$error":"#REF!"}},{"$f":"VLOOKUP(B8,#REF!,15,FALSE)","v":{"$error":"#REF!"}},{"$f":"IF(#REF!=L8,\"对\",\"错\")","v":{"$error":"#REF!"}}]
[null,"自贡农商银行大安支行",1,4,1,6,null,{"$f":"VLOOKUP(B9,#REF!,13,FALSE)","v":{"$error":"#REF!"}},{"$error":"#REF!"},{"$f":"VLOOKUP(B9,#REF!,14,FALSE)","v":{"$error":"#REF!"}},{"$f":"IF(#REF!=J9,\"对\",\"错\")","v":{"$error":"#REF!"}},{"$f":"VLOOKUP(B9,#REF!,15,FALSE)","v":{"$error":"#REF!"}},{"$f":"IF(#REF!=L9,\"对\",\"错\")","v":{"$error":"#REF!"}}]
[null,"自贡农商银行沿滩支行",null,3,2,5,null,{"$f":"VLOOKUP(B10,#REF!,13,FALSE)","v":{"$error":"#REF!"}},{"$error":"#REF!"},{"$f":"VLOOKUP(B10,#REF!,14,FALSE)","v":{"$error":"#REF!"}},{"$f":"IF(#REF!=J10,\"对\",\"错\")","v":{"$error":"#REF!"}},{"$f":"VLOOKUP(B10,#REF!,15,FALSE)","v":{"$error":"#REF!"}},{"$f":"IF(#REF!=L10,\"对\",\"错\")","v":{"$error":"#REF!"}}]
[null,"自贡农商银行荣县支行",1,null,null,1,null,{"$f":"VLOOKUP(B11,#REF!,13,FALSE)","v":{"$error":"#REF!"}},{"$error":"#REF!"},{"$f":"VLOOKUP(B11,#REF!,14,FALSE)","v":{"$error":"#REF!"}},{"$f":"IF(#REF!=J11,\"对\",\"错\")","v":{"$error":"#REF!"}},{"$f":"VLOOKUP(B11,#REF!,15,FALSE)","v":{"$error":"#REF!"}},{"$f":"IF(#REF!=L11,\"对\",\"错\")","v":{"$error":"#REF!"}}]
["攀枝花","攀枝花农商银行东区支行",1,3,1,5,null,{"$f":"VLOOKUP(B12,#REF!,13,FALSE)","v":{"$error":"#REF!"}},{"$f":"IF(C12=H12,\"对\",\"错\")","v":{"$error":"#REF!"}},{"$f":"VLOOKUP(B12,#REF!,14,FALSE)","v":{"$error":"#REF!"}},{"$f":"IF(#REF!=J12,\"对\",\"错\")","v":{"$error":"#REF!"}},{"$f":"VLOOKUP(B12,#REF!,15,FALSE)","v":{"$error":"#REF!"}},{"$f":"IF(#REF!=L12,\"对\",\"错\")","v":{"$error":"#REF!"}}]
[null,"攀枝花农商银行西区支行",1,1,null,2,null,{"$f":"VLOOKUP(B13,#REF!,13,FALSE)","v":{"$error":"#REF!"}},{"$error":"#REF!"},{"$f":"VLOOKUP(B13,#REF!,14,FALSE)","v":{"$error":"#REF!"}},{"$f":"IF(#REF!=J13,\"对\",\"错\")","v":{"$error":"#REF!"}},{"$f":"VLOOKUP(B13,#REF!,15,FALSE)","v":{"$error":"#REF!"}},{"$f":"IF(#REF!=L13,\"对\",\"错\")","v":{"$error":"#REF!"}}]
[null,"攀枝花农商银行仁和支行",1,7,2,10,null,{"$f":"VLOOKUP(B14,#REF!,13,FALSE)","v":{"$error":"#REF!"}},{"$error":"#REF!"},{"$f":"VLOOKUP(B14,#REF!,14,FALSE)","v":{"$error":"#REF!"}},{"$f":"IF(#REF!=J14,\"对\",\"错\")","v":{"$error":"#REF!"}},{"$f":"VLOOKUP(B14,#REF!,15,FALSE)","v":{"$error":"#REF!"}},{"$f":"IF(#REF!=L14,\"对\",\"错\")","v":{"$error":"#REF!"}}]
[null,"攀枝花农商银行米易支行",1,7,2,10,null,{"$f":"VLOOKUP(B15,#REF!,13,FALSE)","v":{"$error":"#REF!"}},{"$error":"#REF!"},{"$f":"VLOOKUP(B15,#REF!,14,FALSE)","v":{"$error":"#REF!"}},{"$f":"IF(#REF!=J15,\"对\",\"错\")","v":{"$error":"#REF!"}},{"$f":"VLOOKUP(B15,#REF!,15,FALSE)","v":{"$error":"#REF!"}},{"$f":"IF(#REF!=L15,\"对\",\"错\")","v":{"$error":"#REF!"}}]
[null,"攀枝花农商银行盐边支行",1,4,1,6,null,{"$f":"VLOOKUP(B16,#REF!,13,FALSE)","v":{"$error":"#REF!"}},{"$error":"#REF!"},{"$f":"VLOOKUP(B16,#REF!,14,FALSE)","v":{"$error":"#REF!"}},{"$f":"IF(#REF!=J16,\"对\",\"错\")","v":{"$error":"#REF!"}},{"$f":"VLOOKUP(B16,#REF!,15,FALSE)","v":{"$error":"#REF!"}},{"$f":"IF(#REF!=L16,\"对\",\"错\")","v":{"$error":"#REF!"}}]
["泸州","泸州农商银行",2,16,3,21,null,{"$f":"VLOOKUP(B17,#REF!,13,FALSE)","v":{"$error":"#REF!"}},{"$error":"#REF!"},{"$f":"VLOOKUP(B17,#REF!,14,FALSE)","v":{"$error":"#REF!"}},{"$f":"IF(#REF!=J17,\"对\",\"错\")","v":{"$error":"#REF!"}},{"$f":"VLOOKUP(B17,#REF!,15,FALSE)","v":{"$error":"#REF!"}},{"$f":"IF(#REF!=L17,\"对\",\"错\")","v":{"$error":"#REF!"}}]
[null,"泸县农商银行",1,9,3,13,null,{"$f":"VLOOKUP(B18,#REF!,13,FALSE)","v":{"$error":"#REF!"}},{"$error":"#REF!"},{"$f":"VLOOKUP(B18,#REF!,14,FALSE)","v":{"$error":"#REF!"}},{"$f":"IF(#REF!=J18,\"对\",\"错\")","v":{"$error":"#REF!"}},{"$f":"VLOOKUP(B18,#REF!,15,FALSE)","v":{"$error":"#REF!"}},{"$f":"IF(#REF!=L18,\"对\",\"错\")","v":{"$error":"#REF!"}}]
[null,"合江农商银行",1,7,2,10,null,{"$f":"VLOOKUP(B19,#REF!,13,FALSE)","v":{"$error":"#REF!"}},{"$error":"#REF!"},{"$f":"VLOOKUP(B19,#REF!,14,FALSE)","v":{"$error":"#REF!"}},{"$f":"IF(#REF!=J19,\"对\",\"错\")","v":{"$error":"#REF!"}},{"$f":"VLOOKUP(B19,#REF!,15,FALSE)","v":{"$error":"#REF!"}},{"$f":"IF(#REF!=L19,\"对\",\"错\")","v":{"$error":"#REF!"}}]
[null,"叙永农商银行",1,10,3,14,null,{"$f":"VLOOKUP(B20,#REF!,13,FALSE)","v":{"$error":"#REF!"}},{"$error":"#REF!"},{"$f":"VLOOKUP(B20,#REF!,14,FALSE)","v":{"$error":"#REF!"}},{"$f":"IF(#REF!=J20,\"对\",\"错\")","v":{"$error":"#REF!"}},{"$f":"VLOOKUP(B20,#REF!,15,FALSE)","v":{"$error":"#REF!"}},{"$f":"IF(#REF!=L20,\"对\",\"错\")","v":{"$error":"#REF!"}}]
[null,"古蔺农商银行",1,7,1,9,null,{"$f":"VLOOKUP(B21,#REF!,13,FALSE)","v":{"$error":"#REF!"}},{"$error":"#REF!"},{"$f":"VLOOKUP(B21,#REF!,14,FALSE)","v":{"$error":"#REF!"}},{"$f":"IF(#REF!=J21,\"对\",\"错\")","v":{"$error":"#REF!"}},{"$f":"VLOOKUP(B21,#REF!,15,FALSE)","v":{"$error":"#REF!"}},{"$f":"IF(#REF!=L21,\"对\",\"错\")","v":{"$error":"#REF!"}}]
["德阳","德阳农商银行旌阳支行",1,10,3,14,null,{"$f":"VLOOKUP(B22,#REF!,13,FALSE)","v":{"$error":"#REF!"}},{"$error":"#REF!"},{"$f":"VLOOKUP(B22,#REF!,14,FALSE)","v":{"$error":"#REF!"}},{"$f":"IF(#REF!=J22,\"对\",\"错\")","v":{"$error":"#REF!"}},{"$f":"VLOOKUP(B22,#REF!,15,FALSE)","v":{"$error":"#REF!"}},{"$f":"IF(#REF!=L22,\"对\",\"错\")","v":{"$error":"#REF!"}}]
[null,"德阳农商银行广汉支行",null,8,3,11,null,{"$f":"VLOOKUP(B23,#REF!,13,FALSE)","v":{"$error":"#REF!"}},{"$error":"#REF!"},{"$f":"VLOOKUP(B23,#REF!,14,FALSE)","v":{"$error":"#REF!"}},{"$f":"IF(#REF!=J23,\"对\",\"错\")","v":{"$error":"#REF!"}},{"$f":"VLOOKUP(B23,#REF!,15,FALSE)","v":{"$error":"#REF!"}},{"$f":"IF(#REF!=L23,\"对\",\"错\")","v":{"$error":"#REF!"}}]
[null,"德阳农商银行什邡支行",1,10,3,14,null,{"$f":"VLOOKUP(B24,#REF!,13,FALSE)","v":{"$error":"#REF!"}},{"$error":"#REF!"},{"$f":"VLOOKUP(B24,#REF!,14,FALSE)","v":{"$error":"#REF!"}},{"$f":"IF(#REF!=J24,\"对\",\"错\")","v":{"$error":"#REF!"}},{"$f":"VLOOKUP(B24,#REF!,15,FALSE)","v":{"$error":"#REF!"}},{"$f":"IF(#REF!=L24,\"对\",\"错\")","v":{"$error":"#REF!"}}]
[null,"德阳农商银行绵竹支行",1,13,3,17,null,{"$f":"VLOOKUP(B25,#REF!,13,FALSE)","v":{"$error":"#REF!"}},{"$error":"#REF!"},{"$f":"VLOOKUP(B25,#REF!,14,FALSE)","v":{"$error":"#REF!"}},{"$f":"IF(#REF!=J25,\"对\",\"错\")","v":{"$error":"#REF!"}},{"$f":"VLOOKUP(B25,#REF!,15,FALSE)","v":{"$error":"#REF!"}},{"$f":"IF(#REF!=L25,\"对\",\"错\")","v":{"$error":"#REF!"}}]
[null,"德阳农商银行罗江支行",1,7,2,10,null,{"$f":"VLOOKUP(B26,#REF!,13,FALSE)","v":{"$error":"#REF!"}},{"$error":"#REF!"},{"$f":"VLOOKUP(B26,#REF!,14,FALSE)","v":{"$error":"#REF!"}},{"$f":"IF(#REF!=J26,\"对\",\"错\")","v":{"$error":"#REF!"}},{"$f":"VLOOKUP(B26,#REF!,15,FALSE)","v":{"$error":"#REF!"}},{"$f":"IF(#REF!=L26,\"对\",\"错\")","v":{"$error":"#REF!"}}]
[null,"德阳农商银行中江支行",null,21,4,25,null,{"$f":"VLOOKUP(B27,#REF!,13,FALSE)","v":{"$error":"#REF!"}},{"$error":"#REF!"},{"$f":"VLOOKUP(B27,#REF!,14,FALSE)","v":{"$error":"#REF!"}},{"$f":"IF(#REF!=J27,\"对\",\"错\")","v":{"$error":"#REF!"}},{"$f":"VLOOKUP(B27,#REF!,15,FALSE)","v":{"$error":"#REF!"}},{"$f":"IF(#REF!=L27,\"对\",\"错\")","v":{"$error":"#REF!"}}]
["绵阳","绵阳农商银行",2,14,3,19,null,{"$f":"VLOOKUP(B28,#REF!,13,FALSE)","v":{"$error":"#REF!"}},{"$error":"#REF!"},{"$f":"VLOOKUP(B28,#REF!,14,FALSE)","v":{"$error":"#REF!"}},{"$f":"IF(#REF!=J28,\"对\",\"错\")","v":{"$error":"#REF!"}},{"$f":"VLOOKUP(B28,#REF!,15,FALSE)","v":{"$error":"#REF!"}},{"$f":"IF(#REF!=L28,\"对\",\"错\")","v":{"$error":"#REF!"}}]
[null,"江油农商银行",1,8,2,11,null,{"$f":"VLOOKUP(B29,#REF!,13,FALSE)","v":{"$error":"#REF!"}},{"$error":"#REF!"},{"$f":"VLOOKUP(B29,#REF!,14,FALSE)","v":{"$error":"#REF!"}},{"$f":"IF(#REF!=J29,\"对\",\"错\")","v":{"$error":"#REF!"}},{"$f":"VLOOKUP(B29,#REF!,15,FALSE)","v":{"$error":"#REF!"}},{"$f":"IF(#REF!=L29,\"对\",\"错\")","v":{"$error":"#REF!"}}]
[null,"三台农商银行",1,10,3,14,null,{"$f":"VLOOKUP(B30,#REF!,13,FALSE)","v":{"$error":"#REF!"}},{"$error":"#REF!"},{"$f":"VLOOKUP(B30,#REF!,14,FALSE)","v":{"$error":"#REF!"}},{"$f":"IF(#REF!=J30,\"对\",\"错\")","v":{"$error":"#REF!"}},{"$f":"VLOOKUP(B30,#REF!,15,FALSE)","v":{"$error":"#REF!"}},{"$f":"IF(#REF!=L30,\"对\",\"错\")","v":{"$error":"#REF!"}}]
[null,"梓潼农商银行",1,3,1,5,null,{"$f":"VLOOKUP(B31,#REF!,13,FALSE)","v":{"$error":"#REF!"}},{"$error":"#REF!"},{"$f":"VLOOKUP(B31,#REF!,14,FALSE)","v":{"$error":"#REF!"}},{"$f":"IF(#REF!=J31,\"对\",\"错\")","v":{"$error":"#REF!"}},{"$f":"VLOOKUP(B31,#REF!,15,FALSE)","v":{"$error":"#REF!"}},{"$f":"IF(#REF!=L31,\"对\",\"错\")","v":{"$error":"#REF!"}}]
[null,"盐亭农商银行",1,9,3,13,null,{"$f":"VLOOKUP(B32,#REF!,13,FALSE)","v":{"$error":"#REF!"}},{"$error":"#REF!"},{"$f":"VLOOKUP(B32,#REF!,14,FALSE)","v":{"$error":"#REF!"}},{"$f":"IF(#REF!=J32,\"对\",\"错\")","v":{"$error":"#REF!"}},{"$f":"VLOOKUP(B32,#REF!,15,FALSE)","v":{"$error":"#REF!"}},{"$f":"IF(#REF!=L32,\"对\",\"错\")","v":{"$error":"#REF!"}}]
[null,"平武农商银行",1,4,2,7,null,{"$f":"VLOOKUP(B33,#REF!,13,FALSE)","v":{"$error":"#REF!"}},{"$error":"#REF!"},{"$f":"VLOOKUP(B33,#REF!,14,FALSE)","v":{"$error":"#REF!"}},{"$f":"IF(#REF!=J33,\"对\",\"错\")","v":{"$error":"#REF!"}},{"$f":"VLOOKUP(B33,#REF!,15,FALSE)","v":{"$error":"#REF!"}},{"$f":"IF(#REF!=L33,\"对\",\"错\")","v":{"$error":"#REF!"}}]
[null,"北川农商银行",1,null,null,1,null,{"$f":"VLOOKUP(B34,#REF!,13,FALSE)","v":{"$error":"#REF!"}},{"$error":"#REF!"},{"$f":"VLOOKUP(B34,#REF!,14,FALSE)","v":{"$error":"#REF!"}},{"$f":"IF(#REF!=J34,\"对\",\"错\")","v":{"$error":"#REF!"}},{"$f":"VLOOKUP(B34,#REF!,15,FALSE)","v":{"$error":"#REF!"}},{"$f":"IF(#REF!=L34,\"对\",\"错\")","v":{"$error":"#REF!"}}]
["广元","广元农商银行苍溪支行",2,2,null,4,null,{"$f":"VLOOKUP(B35,#REF!,13,FALSE)","v":{"$error":"#REF!"}},{"$error":"#REF!"},{"$f":"VLOOKUP(B35,#REF!,14,FALSE)","v":{"$error":"#REF!"}},{"$f":"IF(#REF!=J35,\"对\",\"错\")","v":{"$error":"#REF!"}},{"$f":"VLOOKUP(B35,#REF!,15,FALSE)","v":{"$error":"#REF!"}},{"$f":"IF(#REF!=L35,\"对\",\"错\")","v":{"$error":"#REF!"}}]
[null,"广元农商银行旺苍支行",1,1,null,2,null,{"$f":"VLOOKUP(B36,#REF!,13,FALSE)","v":{"$error":"#REF!"}},{"$error":"#REF!"},{"$f":"VLOOKUP(B36,#REF!,14,FALSE)","v":{"$error":"#REF!"}},{"$f":"IF(#REF!=J36,\"对\",\"错\")","v":{"$error":"#REF!"}},{"$f":"VLOOKUP(B36,#REF!,15,FALSE)","v":{"$error":"#REF!"}},{"$f":"IF(#REF!=L36,\"对\",\"错\")","v":{"$error":"#REF!"}}]
[null,"广元农商银行青川支行",2,2,null,4,null,{"$f":"VLOOKUP(B37,#REF!,13,FALSE)","v":{"$error":"#REF!"}},{"$f":"IF(C37=H37,\"对\",\"错\")","v":{"$error":"#REF!"}},{"$f":"VLOOKUP(B37,#REF!,14,FALSE)","v":{"$error":"#REF!"}},{"$f":"IF(#REF!=J37,\"对\",\"错\")","v":{"$error":"#REF!"}},{"$f":"VLOOKUP(B37,#REF!,15,FALSE)","v":{"$error":"#REF!"}},{"$f":"IF(#REF!=L37,\"对\",\"错\")","v":{"$error":"#REF!"}}]
["遂宁","遂宁农商银行",2,14,3,{"$f":"C38+D38+E38","v":19},null,{"$f":"VLOOKUP(B38,#REF!,13,FALSE)","v":{"$error":"#REF!"}},{"$error":"#REF!"},{"$f":"VLOOKUP(B38,#REF!,14,FALSE)","v":{"$error":"#REF!"}},{"$f":"IF(#REF!=J38,\"对\",\"错\")","v":{"$error":"#REF!"}},{"$f":"VLOOKUP(B38,#REF!,15,FALSE)","v":{"$error":"#REF!"}},{"$f":"IF(#REF!=L38,\"对\",\"错\")","v":{"$error":"#REF!"}}]
[null,"射洪农商银行",1,9,2,12,null,{"$f":"VLOOKUP(B39,#REF!,13,FALSE)","v":{"$error":"#REF!"}},{"$error":"#REF!"},{"$f":"VLOOKUP(B39,#REF!,14,FALSE)","v":{"$error":"#REF!"}},{"$f":"IF(#REF!=J39,\"对\",\"错\")","v":{"$error":"#REF!"}},{"$f":"VLOOKUP(B39,#REF!,15,FALSE)","v":{"$error":"#REF!"}},{"$f":"IF(#REF!=L39,\"对\",\"错\")","v":{"$error":"#REF!"}}]
[null,"蓬溪农商银行",1,6,1,8,null,{"$f":"VLOOKUP(B40,#REF!,13,FALSE)","v":{"$error":"#REF!"}},{"$error":"#REF!"},{"$f":"VLOOKUP(B40,#REF!,14,FALSE)","v":{"$error":"#REF!"}},{"$f":"IF(#REF!=J40,\"对\",\"错\")","v":{"$error":"#REF!"}},{"$f":"VLOOKUP(B40,#REF!,15,FALSE)","v":{"$error":"#REF!"}},{"$f":"IF(#REF!=L40,\"对\",\"错\")","v":{"$error":"#REF!"}}]
[null,"大英农商银行",1,4,1,6,null,{"$f":"VLOOKUP(B41,#REF!,13,FALSE)","v":{"$error":"#REF!"}},{"$error":"#REF!"},{"$f":"VLOOKUP(B41,#REF!,14,FALSE)","v":{"$error":"#REF!"}},{"$f":"IF(#REF!=J41,\"对\",\"错\")","v":{"$error":"#REF!"}},{"$f":"VLOOKUP(B41,#REF!,15,FALSE)","v":{"$error":"#REF!"}},{"$f":"IF(#REF!=L41,\"对\",\"错\")","v":{"$error":"#REF!"}}]
["内江","内江农商银行",2,10,2,14,null,{"$f":"VLOOKUP(B42,#REF!,13,FALSE)","v":{"$error":"#REF!"}},{"$error":"#REF!"},{"$f":"VLOOKUP(B42,#REF!,14,FALSE)","v":{"$error":"#REF!"}},{"$f":"IF(#REF!=J42,\"对\",\"错\")","v":{"$error":"#REF!"}},{"$f":"VLOOKUP(B42,#REF!,15,FALSE)","v":{"$error":"#REF!"}},{"$f":"IF(#REF!=L42,\"对\",\"错\")","v":{"$error":"#REF!"}}]
[null,"隆昌农商银行",1,5,1,7,null,{"$f":"VLOOKUP(B43,#REF!,13,FALSE)","v":{"$error":"#REF!"}},{"$error":"#REF!"},{"$f":"VLOOKUP(B43,#REF!,14,FALSE)","v":{"$error":"#REF!"}},{"$f":"IF(#REF!=J43,\"对\",\"错\")","v":{"$error":"#REF!"}},{"$f":"VLOOKUP(B43,#REF!,15,FALSE)","v":{"$error":"#REF!"}},{"$f":"IF(#REF!=L43,\"对\",\"错\")","v":{"$error":"#REF!"}}]
[null,"资中农商银行",1,8,2,11,null,{"$f":"VLOOKUP(B44,#REF!,13,FALSE)","v":{"$error":"#REF!"}},{"$error":"#REF!"},{"$f":"VLOOKUP(B44,#REF!,14,FALSE)","v":{"$error":"#REF!"}},{"$f":"IF(#REF!=J44,\"对\",\"错\")","v":{"$error":"#REF!"}},{"$f":"VLOOKUP(B44,#REF!,15,FALSE)","v":{"$error":"#REF!"}},{"$f":"IF(#REF!=L44,\"对\",\"错\")","v":{"$error":"#REF!"}}]
[null,"威远农商银行",1,10,3,14,null,{"$f":"VLOOKUP(B45,#REF!,13,FALSE)","v":{"$error":"#REF!"}},{"$error":"#REF!"},{"$f":"VLOOKUP(B45,#REF!,14,FALSE)","v":{"$error":"#REF!"}},{"$f":"IF(#REF!=J45,\"对\",\"错\")","v":{"$error":"#REF!"}},{"$f":"VLOOKUP(B45,#REF!,15,FALSE)","v":{"$error":"#REF!"}},{"$f":"IF(#REF!=L45,\"对\",\"错\")","v":{"$error":"#REF!"}}]
["乐山","乐山农商银行市中区支行",1,3,2,6,null,{"$f":"VLOOKUP(B46,#REF!,13,FALSE)","v":{"$error":"#REF!"}},{"$error":"#REF!"},{"$f":"VLOOKUP(B46,#REF!,14,FALSE)","v":{"$error":"#REF!"}},{"$f":"IF(#REF!=J46,\"对\",\"错\")","v":{"$error":"#REF!"}},{"$f":"VLOOKUP(B46,#REF!,15,FALSE)","v":{"$error":"#REF!"}},{"$f":"IF(#REF!=L46,\"对\",\"错\")","v":{"$error":"#REF!"}}]
[null,"乐山农商银行五通桥区支行",null,4,2,6,null,{"$f":"VLOOKUP(B47,#REF!,13,FALSE)","v":{"$error":"#REF!"}},{"$error":"#REF!"},{"$f":"VLOOKUP(B47,#REF!,14,FALSE)","v":{"$error":"#REF!"}},{"$f":"IF(#REF!=J47,\"对\",\"错\")","v":{"$error":"#REF!"}},{"$f":"VLOOKUP(B47,#REF!,15,FALSE)","v":{"$error":"#REF!"}},{"$f":"IF(#REF!=L47,\"对\",\"错\")","v":{"$error":"#REF!"}}]
[null,"乐山农商银行沙湾区支行",null,5,2,7,null,{"$f":"VLOOKUP(B48,#REF!,13,FALSE)","v":{"$error":"#REF!"}},{"$error":"#REF!"},{"$f":"VLOOKUP(B48,#REF!,14,FALSE)","v":{"$error":"#REF!"}},{"$f":"IF(#REF!=J48,\"对\",\"错\")","v":{"$error":"#REF!"}},{"$f":"VLOOKUP(B48,#REF!,15,FALSE)","v":{"$error":"#REF!"}},{"$f":"IF(#REF!=L48,\"对\",\"错\")","v":{"$error":"#REF!"}}]
[null,"乐山农商银行犍为支行",1,7,2,10,null,{"$f":"VLOOKUP(B49,#REF!,13,FALSE)","v":{"$error":"#REF!"}},{"$error":"#REF!"},{"$f":"VLOOKUP(B49,#REF!,14,FALSE)","v":{"$error":"#REF!"}},{"$f":"IF(#REF!=J49,\"对\",\"错\")","v":{"$error":"#REF!"}},{"$f":"VLOOKUP(B49,#REF!,15,FALSE)","v":{"$error":"#REF!"}},{"$f":"IF(#REF!=L49,\"对\",\"错\")","v":{"$error":"#REF!"}}]
[null,"乐山农商银行井研支行",null,6,4,10,null,{"$f":"VLOOKUP(B50,#REF!,13,FALSE)","v":{"$error":"#REF!"}},{"$error":"#REF!"},{"$f":"VLOOKUP(B50,#REF!,14,FALSE)","v":{"$error":"#REF!"}},{"$f":"IF(#REF!=J50,\"对\",\"错\")","v":{"$error":"#REF!"}},{"$f":"VLOOKUP(B50,#REF!,15,FALSE)","v":{"$error":"#REF!"}},{"$f":"IF(#REF!=L50,\"对\",\"错\")","v":{"$error":"#REF!"}}]
[null,"乐山农商银行峨眉山支行",null,4,3,7,null,{"$f":"VLOOKUP(B51,#REF!,13,FALSE)","v":{"$error":"#REF!"}},{"$error":"#REF!"},{"$f":"VLOOKUP(B51,#REF!,14,FALSE)","v":{"$error":"#REF!"}},{"$f":"IF(#REF!=J51,\"对\",\"错\")","v":{"$error":"#REF!"}},{"$f":"VLOOKUP(B51,#REF!,15,FALSE)","v":{"$error":"#REF!"}},{"$f":"IF(#REF!=L51,\"对\",\"错\")","v":{"$error":"#REF!"}}]
[null,"乐山农商银行夹江支行",null,7,2,9,null,{"$f":"VLOOKUP(B52,#REF!,13,FALSE)","v":{"$error":"#REF!"}},{"$error":"#REF!"},{"$f":"VLOOKUP(B52,#REF!,14,FALSE)","v":{"$error":"#REF!"}},{"$f":"IF(#REF!=J52,\"对\",\"错\")","v":{"$error":"#REF!"}},{"$f":"VLOOKUP(B52,#REF!,15,FALSE)","v":{"$error":"#REF!"}},{"$f":"IF(#REF!=L52,\"对\",\"错\")","v":{"$error":"#REF!"}}]
[null,"乐山农商银行沐川支行",1,4,2,7,null,{"$f":"VLOOKUP(B53,#REF!,13,FALSE)","v":{"$error":"#REF!"}},{"$error":"#REF!"},{"$f":"VLOOKUP(B53,#REF!,14,FALSE)","v":{"$error":"#REF!"}},{"$f":"IF(#REF!=J53,\"对\",\"错\")","v":{"$error":"#REF!"}},{"$f":"VLOOKUP(B53,#REF!,15,FALSE)","v":{"$error":"#REF!"}},{"$f":"IF(#REF!=L53,\"对\",\"错\")","v":{"$error":"#REF!"}}]
[null,"乐山农商银行峨边支行",null,6,4,10,null,{"$f":"VLOOKUP(B54,#REF!,13,FALSE)","v":{"$error":"#REF!"}},{"$error":"#REF!"},{"$f":"VLOOKUP(B54,#REF!,14,FALSE)","v":{"$error":"#REF!"}},{"$f":"IF(#REF!=J54,\"对\",\"错\")","v":{"$error":"#REF!"}},{"$f":"VLOOKUP(B54,#REF!,15,FALSE)","v":{"$error":"#REF!"}},{"$f":"IF(#REF!=L54,\"对\",\"错\")","v":{"$error":"#REF!"}}]
[null,"乐山农商银行马边支行",1,4,3,8,null,{"$f":"VLOOKUP(B55,#REF!,13,FALSE)","v":{"$error":"#REF!"}},{"$error":"#REF!"},{"$f":"VLOOKUP(B55,#REF!,14,FALSE)","v":{"$error":"#REF!"}},{"$f":"IF(#REF!=J55,\"对\",\"错\")","v":{"$error":"#REF!"}},{"$f":"VLOOKUP(B55,#REF!,15,FALSE)","v":{"$error":"#REF!"}},{"$f":"IF(#REF!=L55,\"对\",\"错\")","v":{"$error":"#REF!"}}]
["南充","南充农商银行顺庆支行",null,6,1,7,null,{"$f":"VLOOKUP(B56,#REF!,13,FALSE)","v":{"$error":"#REF!"}},{"$error":"#REF!"},{"$f":"VLOOKUP(B56,#REF!,14,FALSE)","v":{"$error":"#REF!"}},{"$f":"IF(#REF!=J56,\"对\",\"错\")","v":{"$error":"#REF!"}},{"$f":"VLOOKUP(B56,#REF!,15,FALSE)","v":{"$error":"#REF!"}},{"$f":"IF(#REF!=L56,\"对\",\"错\")","v":{"$error":"#REF!"}}]
[null,"南充农商银行南部支行",1,5,1,7,null,{"$f":"VLOOKUP(B57,#REF!,13,FALSE)","v":{"$error":"#REF!"}},{"$error":"#REF!"},{"$f":"VLOOKUP(B57,#REF!,14,FALSE)","v":{"$error":"#REF!"}},{"$f":"IF(#REF!=J57,\"对\",\"错\")","v":{"$error":"#REF!"}},{"$f":"VLOOKUP(B57,#REF!,15,FALSE)","v":{"$error":"#REF!"}},{"$f":"IF(#REF!=L57,\"对\",\"错\")","v":{"$error":"#REF!"}}]
[null,"南充农商银行阆中支行",1,9,2,12,null,{"$f":"VLOOKUP(B58,#REF!,13,FALSE)","v":{"$error":"#REF!"}},{"$error":"#REF!"},{"$f":"VLOOKUP(B58,#REF!,14,FALSE)","v":{"$error":"#REF!"}},{"$f":"IF(#REF!=J58,\"对\",\"错\")","v":{"$error":"#REF!"}},{"$f":"VLOOKUP(B58,#REF!,15,FALSE)","v":{"$error":"#REF!"}},{"$f":"IF(#REF!=L58,\"对\",\"错\")","v":{"$error":"#REF!"}}]
[null,"南充农商银行西充支行",null,6,2,8,null,{"$f":"VLOOKUP(B59,#REF!,13,FALSE)","v":{"$error":"#REF!"}},{"$error":"#REF!"},{"$f":"VLOOKUP(B59,#REF!,14,FALSE)","v":{"$error":"#REF!"}},{"$f":"IF(#REF!=J59,\"对\",\"错\")","v":{"$error":"#REF!"}},{"$f":"VLOOKUP(B59,#REF!,15,FALSE)","v":{"$error":"#REF!"}},{"$f":"IF(#REF!=L59,\"对\",\"错\")","v":{"$error":"#REF!"}}]
[null,"南充农商银行营山支行",1,7,2,10,null,{"$f":"VLOOKUP(B60,#REF!,13,FALSE)","v":{"$error":"#REF!"}},{"$error":"#REF!"},{"$f":"VLOOKUP(B60,#REF!,14,FALSE)","v":{"$error":"#REF!"}},{"$f":"IF(#REF!=J60,\"对\",\"错\")","v":{"$error":"#REF!"}},{"$f":"VLOOKUP(B60,#REF!,15,FALSE)","v":{"$error":"#REF!"}},{"$f":"IF(#REF!=L60,\"对\",\"错\")","v":{"$error":"#REF!"}}]
[null,"南充农商银行仪陇支行",null,6,2,8,null,{"$f":"VLOOKUP(B61,#REF!,13,FALSE)","v":{"$error":"#REF!"}},{"$error":"#REF!"},{"$f":"VLOOKUP(B61,#REF!,14,FALSE)","v":{"$error":"#REF!"}},{"$f":"IF(#REF!=J61,\"对\",\"错\")","v":{"$error":"#REF!"}},{"$f":"VLOOKUP(B61,#REF!,15,FALSE)","v":{"$error":"#REF!"}},{"$f":"IF(#REF!=L61,\"对\",\"错\")","v":{"$error":"#REF!"}}]
[null,"南充农商银行蓬安支行",1,7,2,10,null,{"$f":"VLOOKUP(B62,#REF!,13,FALSE)","v":{"$error":"#REF!"}},{"$error":"#REF!"},{"$f":"VLOOKUP(B62,#REF!,14,FALSE)","v":{"$error":"#REF!"}},{"$f":"IF(#REF!=J62,\"对\",\"错\")","v":{"$error":"#REF!"}},{"$f":"VLOOKUP(B62,#REF!,15,FALSE)","v":{"$error":"#REF!"}},{"$f":"IF(#REF!=L62,\"对\",\"错\")","v":{"$error":"#REF!"}}]
[null,"南充农商银行高坪支行",null,8,2,10,null,{"$f":"VLOOKUP(B63,#REF!,13,FALSE)","v":{"$error":"#REF!"}},{"$error":"#REF!"},{"$f":"VLOOKUP(B63,#REF!,14,FALSE)","v":{"$error":"#REF!"}},{"$f":"IF(#REF!=J63,\"对\",\"错\")","v":{"$error":"#REF!"}},{"$f":"VLOOKUP(B63,#REF!,15,FALSE)","v":{"$error":"#REF!"}},{"$f":"IF(#REF!=L63,\"对\",\"错\")","v":{"$error":"#REF!"}}]
[null,"南充农商银行嘉陵支行",null,10,3,13,null,{"$f":"VLOOKUP(B64,#REF!,13,FALSE)","v":{"$error":"#REF!"}},{"$error":"#REF!"},{"$f":"VLOOKUP(B64,#REF!,14,FALSE)","v":{"$error":"#REF!"}},{"$f":"IF(#REF!=J64,\"对\",\"错\")","v":{"$error":"#REF!"}},{"$f":"VLOOKUP(B64,#REF!,15,FALSE)","v":{"$error":"#REF!"}},{"$f":"IF(#REF!=L64,\"对\",\"错\")","v":{"$error":"#REF!"}}]
["宜宾","宜宾农商银行",2,24,4,30,null,{"$f":"VLOOKUP(B65,#REF!,13,FALSE)","v":{"$error":"#REF!"}},{"$error":"#REF!"},{"$f":"VLOOKUP(B65,#REF!,14,FALSE)","v":{"$error":"#REF!"}},{"$f":"IF(#REF!=J65,\"对\",\"错\")","v":{"$error":"#REF!"}},{"$f":"VLOOKUP(B65,#REF!,15,FALSE)","v":{"$error":"#REF!"}},{"$f":"IF(#REF!=L65,\"对\",\"错\")","v":{"$error":"#REF!"}}]
[null,"江安农商银行",1,4,2,7,null,{"$f":"VLOOKUP(B66,#REF!,13,FALSE)","v":{"$error":"#REF!"}},{"$error":"#REF!"},{"$f":"VLOOKUP(B66,#REF!,14,FALSE)","v":{"$error":"#REF!"}},{"$f":"IF(#REF!=J66,\"对\",\"错\")","v":{"$error":"#REF!"}},{"$f":"VLOOKUP(B66,#REF!,15,FALSE)","v":{"$error":"#REF!"}},{"$f":"IF(#REF!=L66,\"对\",\"错\")","v":{"$error":"#REF!"}}]
[null,"长宁农商银行",1,2,null,3,null,{"$f":"VLOOKUP(B67,#REF!,13,FALSE)","v":{"$error":"#REF!"}},{"$error":"#REF!"},{"$f":"VLOOKUP(B67,#REF!,14,FALSE)","v":{"$error":"#REF!"}},{"$f":"IF(#REF!=J67,\"对\",\"错\")","v":{"$error":"#REF!"}},{"$f":"VLOOKUP(B67,#REF!,15,FALSE)","v":{"$error":"#REF!"}},{"$f":"IF(#REF!=L67,\"对\",\"错\")","v":{"$error":"#REF!"}}]
[null,"高县农商银行",1,5,2,8,null,{"$f":"VLOOKUP(B68,#REF!,13,FALSE)","v":{"$error":"#REF!"}},{"$error":"#REF!"},{"$f":"VLOOKUP(B68,#REF!,14,FALSE)","v":{"$error":"#REF!"}},{"$f":"IF(#REF!=J68,\"对\",\"错\")","v":{"$error":"#REF!"}},{"$f":"VLOOKUP(B68,#REF!,15,FALSE)","v":{"$error":"#REF!"}},{"$f":"IF(#REF!=L68,\"对\",\"错\")","v":{"$error":"#REF!"}}]
[null,"筠连农商银行",1,4,1,6,null,{"$f":"VLOOKUP(B69,#REF!,13,FALSE)","v":{"$error":"#REF!"}},{"$error":"#REF!"},{"$f":"VLOOKUP(B69,#REF!,14,FALSE)","v":{"$error":"#REF!"}},{"$f":"IF(#REF!=J69,\"对\",\"错\")","v":{"$error":"#REF!"}},{"$f":"VLOOKUP(B69,#REF!,15,FALSE)","v":{"$error":"#REF!"}},{"$f":"IF(#REF!=L69,\"对\",\"错\")","v":{"$error":"#REF!"}}]
[null,"珙县农商银行",1,6,1,{"$f":"C70+D70+E70","v":8},null,{"$f":"VLOOKUP(B70,#REF!,13,FALSE)","v":{"$error":"#REF!"}},{"$error":"#REF!"},{"$f":"VLOOKUP(B70,#REF!,14,FALSE)","v":{"$error":"#REF!"}},{"$f":"IF(#REF!=J70,\"对\",\"错\")","v":{"$error":"#REF!"}},{"$f":"VLOOKUP(B70,#REF!,15,FALSE)","v":{"$error":"#REF!"}},{"$f":"IF(#REF!=L70,\"对\",\"错\")","v":{"$error":"#REF!"}}]
[null,"兴文农商银行",1,5,2,8,null,{"$f":"VLOOKUP(B71,#REF!,13,FALSE)","v":{"$error":"#REF!"}},{"$error":"#REF!"},{"$f":"VLOOKUP(B71,#REF!,14,FALSE)","v":{"$error":"#REF!"}},{"$f":"IF(#REF!=J71,\"对\",\"错\")","v":{"$error":"#REF!"}},{"$f":"VLOOKUP(B71,#REF!,15,FALSE)","v":{"$error":"#REF!"}},{"$f":"IF(#REF!=L71,\"对\",\"错\")","v":{"$error":"#REF!"}}]
[null,"屏山农商银行",1,2,1,4,null,{"$f":"VLOOKUP(B72,#REF!,13,FALSE)","v":{"$error":"#REF!"}},{"$error":"#REF!"},{"$f":"VLOOKUP(B72,#REF!,14,FALSE)","v":{"$error":"#REF!"}},{"$f":"IF(#REF!=J72,\"对\",\"错\")","v":{"$error":"#REF!"}},{"$f":"VLOOKUP(B72,#REF!,15,FALSE)","v":{"$error":"#REF!"}},{"$f":"IF(#REF!=L72,\"对\",\"错\")","v":{"$error":"#REF!"}}]
["广安","广安农商银行广安支行",1,7,2,10,null,{"$f":"VLOOKUP(B73,#REF!,13,FALSE)","v":{"$error":"#REF!"}},{"$error":"#REF!"},{"$f":"VLOOKUP(B73,#REF!,14,FALSE)","v":{"$error":"#REF!"}},{"$f":"IF(#REF!=J73,\"对\",\"错\")","v":{"$error":"#REF!"}},{"$f":"VLOOKUP(B73,#REF!,15,FALSE)","v":{"$error":"#REF!"}},{"$f":"IF(#REF!=L73,\"对\",\"错\")","v":{"$error":"#REF!"}}]
[null,"广安农商银行华蓥支行",1,4,1,6,null,{"$f":"VLOOKUP(B74,#REF!,13,FALSE)","v":{"$error":"#REF!"}},{"$error":"#REF!"},{"$f":"VLOOKUP(B74,#REF!,14,FALSE)","v":{"$error":"#REF!"}},{"$f":"IF(#REF!=J74,\"对\",\"错\")","v":{"$error":"#REF!"}},{"$f":"VLOOKUP(B74,#REF!,15,FALSE)","v":{"$error":"#REF!"}},{"$f":"IF(#REF!=L74,\"对\",\"错\")","v":{"$error":"#REF!"}}]
[null,"广安农商银行岳池支行",1,9,3,13,null,{"$f":"VLOOKUP(B75,#REF!,13,FALSE)","v":{"$error":"#REF!"}},{"$error":"#REF!"},{"$f":"VLOOKUP(B75,#REF!,14,FALSE)","v":{"$error":"#REF!"}},{"$f":"IF(#REF!=J75,\"对\",\"错\")","v":{"$error":"#REF!"}},{"$f":"VLOOKUP(B75,#REF!,15,FALSE)","v":{"$error":"#REF!"}},{"$f":"IF(#REF!=L75,\"对\",\"错\")","v":{"$error":"#REF!"}}]
[null,"广安农商银行武胜支行",1,6,2,9,null,{"$f":"VLOOKUP(B76,#REF!,13,FALSE)","v":{"$error":"#REF!"}},{"$error":"#REF!"},{"$f":"VLOOKUP(B76,#REF!,14,FALSE)","v":{"$error":"#REF!"}},{"$f":"IF(#REF!=J76,\"对\",\"错\")","v":{"$error":"#REF!"}},{"$f":"VLOOKUP(B76,#REF!,15,FALSE)","v":{"$error":"#REF!"}},{"$f":"IF(#REF!=L76,\"对\",\"错\")","v":{"$error":"#REF!"}}]
[null,"广安农商银行邻水支行",null,5,1,6,null,{"$f":"VLOOKUP(B77,#REF!,13,FALSE)","v":{"$error":"#REF!"}},{"$error":"#REF!"},{"$f":"VLOOKUP(B77,#REF!,14,FALSE)","v":{"$error":"#REF!"}},{"$f":"IF(#REF!=J77,\"对\",\"错\")","v":{"$error":"#REF!"}},{"$f":"VLOOKUP(B77,#REF!,15,FALSE)","v":{"$error":"#REF!"}},{"$f":"IF(#REF!=L77,\"对\",\"错\")","v":{"$error":"#REF!"}}]
[null,"广安农商银行前锋支行",null,5,2,7,null,{"$f":"VLOOKUP(B78,#REF!,13,FALSE)","v":{"$error":"#REF!"}},{"$error":"#REF!"},{"$f":"VLOOKUP(B78,#REF!,14,FALSE)","v":{"$error":"#REF!"}},{"$f":"IF(#REF!=J78,\"对\",\"错\")","v":{"$error":"#REF!"}},{"$f":"VLOOKUP(B78,#REF!,15,FALSE)","v":{"$error":"#REF!"}},{"$f":"IF(#REF!=L78,\"对\",\"错\")","v":{"$error":"#REF!"}}]
["达州","达州农商银行通川支行",null,6,2,8,null,{"$f":"VLOOKUP(B79,#REF!,13,FALSE)","v":{"$error":"#REF!"}},{"$f":"IF(C79=H79,\"对\",\"错\")","v":{"$error":"#REF!"}},{"$f":"VLOOKUP(B79,#REF!,14,FALSE)","v":{"$error":"#REF!"}},{"$f":"IF(#REF!=J79,\"对\",\"错\")","v":{"$error":"#REF!"}},{"$f":"VLOOKUP(B79,#REF!,15,FALSE)","v":{"$error":"#REF!"}},{"$f":"IF(#REF!=L79,\"对\",\"错\")","v":{"$error":"#REF!"}}]
[null,"达州农商银行达川支行",null,13,3,16,null,{"$f":"VLOOKUP(B80,#REF!,13,FALSE)","v":{"$error":"#REF!"}},{"$error":"#REF!"},{"$f":"VLOOKUP(B80,#REF!,14,FALSE)","v":{"$error":"#REF!"}},{"$f":"IF(#REF!=J80,\"对\",\"错\")","v":{"$error":"#REF!"}},{"$f":"VLOOKUP(B80,#REF!,15,FALSE)","v":{"$error":"#REF!"}},{"$f":"IF(#REF!=L80,\"对\",\"错\")","v":{"$error":"#REF!"}}]
[null,"达州农商银行宣汉支行",null,2,2,4,null,{"$f":"VLOOKUP(B81,#REF!,13,FALSE)","v":{"$error":"#REF!"}},{"$error":"#REF!"},{"$f":"VLOOKUP(B81,#REF!,14,FALSE)","v":{"$error":"#REF!"}},{"$f":"IF(#REF!=J81,\"对\",\"错\")","v":{"$error":"#REF!"}},{"$f":"VLOOKUP(B81,#REF!,15,FALSE)","v":{"$error":"#REF!"}},{"$f":"IF(#REF!=L81,\"对\",\"错\")","v":{"$error":"#REF!"}}]
[null,"达州农商银行开江支行",1,8,2,11,null,{"$f":"VLOOKUP(B82,#REF!,13,FALSE)","v":{"$error":"#REF!"}},{"$error":"#REF!"},{"$f":"VLOOKUP(B82,#REF!,14,FALSE)","v":{"$error":"#REF!"}},{"$f":"IF(#REF!=J82,\"对\",\"错\")","v":{"$error":"#REF!"}},{"$f":"VLOOKUP(B82,#REF!,15,FALSE)","v":{"$error":"#REF!"}},{"$f":"IF(#REF!=L82,\"对\",\"错\")","v":{"$error":"#REF!"}}]
[null,"达州农商银行万源支行",null,8,3,11,null,{"$f":"VLOOKUP(B83,#REF!,13,FALSE)","v":{"$error":"#REF!"}},{"$error":"#REF!"},{"$f":"VLOOKUP(B83,#REF!,14,FALSE)","v":{"$error":"#REF!"}},{"$f":"IF(#REF!=J83,\"对\",\"错\")","v":{"$error":"#REF!"}},{"$f":"VLOOKUP(B83,#REF!,15,FALSE)","v":{"$error":"#REF!"}},{"$f":"IF(#REF!=L83,\"对\",\"错\")","v":{"$error":"#REF!"}}]
[null,"达州农商银行大竹支行",1,10,3,14,null,{"$f":"VLOOKUP(B84,#REF!,13,FALSE)","v":{"$error":"#REF!"}},{"$error":"#REF!"},{"$f":"VLOOKUP(B84,#REF!,14,FALSE)","v":{"$error":"#REF!"}},{"$f":"IF(#REF!=J84,\"对\",\"错\")","v":{"$error":"#REF!"}},{"$f":"VLOOKUP(B84,#REF!,15,FALSE)","v":{"$error":"#REF!"}},{"$f":"IF(#REF!=L84,\"对\",\"错\")","v":{"$error":"#REF!"}}]
[null,"达州农商银行渠县支行",2,13,3,18,null,{"$f":"VLOOKUP(B85,#REF!,13,FALSE)","v":{"$error":"#REF!"}},{"$error":"#REF!"},{"$f":"VLOOKUP(B85,#REF!,14,FALSE)","v":{"$error":"#REF!"}},{"$f":"IF(#REF!=J85,\"对\",\"错\")","v":{"$error":"#REF!"}},{"$f":"VLOOKUP(B85,#REF!,15,FALSE)","v":{"$error":"#REF!"}},{"$f":"IF(#REF!=L85,\"对\",\"错\")","v":{"$error":"#REF!"}}]
["雅安","雅安农商银行雨城支行",null,7,2,9,null,{"$f":"VLOOKUP(B86,#REF!,13,FALSE)","v":{"$error":"#REF!"}},{"$error":"#REF!"},{"$f":"VLOOKUP(B86,#REF!,14,FALSE)","v":{"$error":"#REF!"}},{"$f":"IF(#REF!=J86,\"对\",\"错\")","v":{"$error":"#REF!"}},{"$f":"VLOOKUP(B86,#REF!,15,FALSE)","v":{"$error":"#REF!"}},{"$f":"IF(#REF!=L86,\"对\",\"错\")","v":{"$error":"#REF!"}}]
[null,"雅安农商银行名山支行",null,4,1,5,null,{"$f":"VLOOKUP(B87,#REF!,13,FALSE)","v":{"$error":"#REF!"}},{"$error":"#REF!"},{"$f":"VLOOKUP(B87,#REF!,14,FALSE)","v":{"$error":"#REF!"}},{"$f":"IF(#REF!=J87,\"对\",\"错\")","v":{"$error":"#REF!"}},{"$f":"VLOOKUP(B87,#REF!,15,FALSE)","v":{"$error":"#REF!"}},{"$f":"IF(#REF!=L87,\"对\",\"错\")","v":{"$error":"#REF!"}}]
[null,"雅安农商银行荥经支行",1,6,2,9,null,{"$f":"VLOOKUP(B88,#REF!,13,FALSE)","v":{"$error":"#REF!"}},{"$error":"#REF!"},{"$f":"VLOOKUP(B88,#REF!,14,FALSE)","v":{"$error":"#REF!"}},{"$f":"IF(#REF!=J88,\"对\",\"错\")","v":{"$error":"#REF!"}},{"$f":"VLOOKUP(B88,#REF!,15,FALSE)","v":{"$error":"#REF!"}},{"$f":"IF(#REF!=L88,\"对\",\"错\")","v":{"$error":"#REF!"}}]
[null,"雅安农商银行汉源支行",1,7,2,10,null,{"$f":"VLOOKUP(B89,#REF!,13,FALSE)","v":{"$error":"#REF!"}},{"$error":"#REF!"},{"$f":"VLOOKUP(B89,#REF!,14,FALSE)","v":{"$error":"#REF!"}},{"$f":"IF(#REF!=J89,\"对\",\"错\")","v":{"$error":"#REF!"}},{"$f":"VLOOKUP(B89,#REF!,15,FALSE)","v":{"$error":"#REF!"}},{"$f":"IF(#REF!=L89,\"对\",\"错\")","v":{"$error":"#REF!"}}]
[null,"雅安农商银行石棉支行",1,3,1,5,null,{"$f":"VLOOKUP(B90,#REF!,13,FALSE)","v":{"$error":"#REF!"}},{"$error":"#REF!"},{"$f":"VLOOKUP(B90,#REF!,14,FALSE)","v":{"$error":"#REF!"}},{"$f":"IF(#REF!=J90,\"对\",\"错\")","v":{"$error":"#REF!"}},{"$f":"VLOOKUP(B90,#REF!,15,FALSE)","v":{"$error":"#REF!"}},{"$f":"IF(#REF!=L90,\"对\",\"错\")","v":{"$error":"#REF!"}}]
[null,"雅安农商银行天全支行",null,5,2,7,null,{"$f":"VLOOKUP(B91,#REF!,13,FALSE)","v":{"$error":"#REF!"}},{"$error":"#REF!"},{"$f":"VLOOKUP(B91,#REF!,14,FALSE)","v":{"$error":"#REF!"}},{"$f":"IF(#REF!=J91,\"对\",\"错\")","v":{"$error":"#REF!"}},{"$f":"VLOOKUP(B91,#REF!,15,FALSE)","v":{"$error":"#REF!"}},{"$f":"IF(#REF!=L91,\"对\",\"错\")","v":{"$error":"#REF!"}}]
[null,"雅安农商银行芦山支行",1,5,1,7,null,{"$f":"VLOOKUP(B92,#REF!,13,FALSE)","v":{"$error":"#REF!"}},{"$error":"#REF!"},{"$f":"VLOOKUP(B92,#REF!,14,FALSE)","v":{"$error":"#REF!"}},{"$f":"IF(#REF!=J92,\"对\",\"错\")","v":{"$error":"#REF!"}},{"$f":"VLOOKUP(B92,#REF!,15,FALSE)","v":{"$error":"#REF!"}},{"$f":"IF(#REF!=L92,\"对\",\"错\")","v":{"$error":"#REF!"}}]
[null,"雅安农商银行宝兴支行",null,2,2,4,null,{"$f":"VLOOKUP(B93,#REF!,13,FALSE)","v":{"$error":"#REF!"}},{"$error":"#REF!"},{"$f":"VLOOKUP(B93,#REF!,14,FALSE)","v":{"$error":"#REF!"}},{"$f":"IF(#REF!=J93,\"对\",\"错\")","v":{"$error":"#REF!"}},{"$f":"VLOOKUP(B93,#REF!,15,FALSE)","v":{"$error":"#REF!"}},{"$f":"IF(#REF!=L93,\"对\",\"错\")","v":{"$error":"#REF!"}}]
["眉山","眉山农商银行",2,17,3,22,null,{"$f":"VLOOKUP(B94,#REF!,13,FALSE)","v":{"$error":"#REF!"}},{"$error":"#REF!"},{"$f":"VLOOKUP(B94,#REF!,14,FALSE)","v":{"$error":"#REF!"}},{"$f":"IF(#REF!=J94,\"对\",\"错\")","v":{"$error":"#REF!"}},{"$f":"VLOOKUP(B94,#REF!,15,FALSE)","v":{"$error":"#REF!"}},{"$f":"IF(#REF!=L94,\"对\",\"错\")","v":{"$error":"#REF!"}}]
[null,"仁寿农商银行",1,13,3,17,null,{"$f":"VLOOKUP(B95,#REF!,13,FALSE)","v":{"$error":"#REF!"}},{"$error":"#REF!"},{"$f":"VLOOKUP(B95,#REF!,14,FALSE)","v":{"$error":"#REF!"}},{"$f":"IF(#REF!=J95,\"对\",\"错\")","v":{"$error":"#REF!"}},{"$f":"VLOOKUP(B95,#REF!,15,FALSE)","v":{"$error":"#REF!"}},{"$f":"IF(#REF!=L95,\"对\",\"错\")","v":{"$error":"#REF!"}}]
[null,"洪雅农商银行",1,2,1,4,null,{"$f":"VLOOKUP(B96,#REF!,13,FALSE)","v":{"$error":"#REF!"}},{"$error":"#REF!"},{"$f":"VLOOKUP(B96,#REF!,14,FALSE)","v":{"$error":"#REF!"}},{"$f":"IF(#REF!=J96,\"对\",\"错\")","v":{"$error":"#REF!"}},{"$f":"VLOOKUP(B96,#REF!,15,FALSE)","v":{"$error":"#REF!"}},{"$f":"IF(#REF!=L96,\"对\",\"错\")","v":{"$error":"#REF!"}}]
[null,"丹棱农商银行",1,4,1,6,null,{"$f":"VLOOKUP(B97,#REF!,13,FALSE)","v":{"$error":"#REF!"}},{"$error":"#REF!"},{"$f":"VLOOKUP(B97,#REF!,14,FALSE)","v":{"$error":"#REF!"}},{"$f":"IF(#REF!=J97,\"对\",\"错\")","v":{"$error":"#REF!"}},{"$f":"VLOOKUP(B97,#REF!,15,FALSE)","v":{"$error":"#REF!"}},{"$f":"IF(#REF!=L97,\"对\",\"错\")","v":{"$error":"#REF!"}}]
[null,"青神农商银行",1,3,1,5,null,{"$f":"VLOOKUP(B98,#REF!,13,FALSE)","v":{"$error":"#REF!"}},{"$error":"#REF!"},{"$f":"VLOOKUP(B98,#REF!,14,FALSE)","v":{"$error":"#REF!"}},{"$f":"IF(#REF!=J98,\"对\",\"错\")","v":{"$error":"#REF!"}},{"$f":"VLOOKUP(B98,#REF!,15,FALSE)","v":{"$error":"#REF!"}},{"$f":"IF(#REF!=L98,\"对\",\"错\")","v":{"$error":"#REF!"}}]
["资阳","资阳农商银行安岳支行",4,9,2,15,null,{"$f":"VLOOKUP(B99,#REF!,13,FALSE)","v":{"$error":"#REF!"}},{"$error":"#REF!"},{"$f":"VLOOKUP(B99,#REF!,14,FALSE)","v":{"$error":"#REF!"}},{"$f":"IF(#REF!=J99,\"对\",\"错\")","v":{"$error":"#REF!"}},{"$f":"VLOOKUP(B99,#REF!,15,FALSE)","v":{"$error":"#REF!"}},{"$f":"IF(#REF!=L99,\"对\",\"错\")","v":{"$error":"#REF!"}}]
["阿坝","阿坝农商银行汶川支行",null,2,2,4,null,{"$f":"VLOOKUP(B100,#REF!,13,FALSE)","v":{"$error":"#REF!"}},{"$f":"IF(C100=H100,\"对\",\"错\")","v":{"$error":"#REF!"}},{"$f":"VLOOKUP(B100,#REF!,14,FALSE)","v":{"$error":"#REF!"}},{"$f":"IF(#REF!=J100,\"对\",\"错\")","v":{"$error":"#REF!"}},{"$f":"VLOOKUP(B100,#REF!,15,FALSE)","v":{"$error":"#REF!"}},{"$f":"IF(#REF!=L100,\"对\",\"错\")","v":{"$error":"#REF!"}}]
[null,"阿坝农商银行理县支行",null,1,null,1,null,{"$f":"VLOOKUP(B101,#REF!,13,FALSE)","v":{"$error":"#REF!"}},{"$error":"#REF!"},{"$f":"VLOOKUP(B101,#REF!,14,FALSE)","v":{"$error":"#REF!"}},{"$f":"IF(#REF!=J101,\"对\",\"错\")","v":{"$error":"#REF!"}},{"$f":"VLOOKUP(B101,#REF!,15,FALSE)","v":{"$error":"#REF!"}},{"$f":"IF(#REF!=L101,\"对\",\"错\")","v":{"$error":"#REF!"}}]
[null,"阿坝农商银行茂县支行",null,1,null,{"$f":"C102+D102+E102","v":1},null,{"$f":"VLOOKUP(B102,#REF!,13,FALSE)","v":{"$error":"#REF!"}},{"$error":"#REF!"},{"$f":"VLOOKUP(B102,#REF!,14,FALSE)","v":{"$error":"#REF!"}},{"$f":"IF(#REF!=J102,\"对\",\"错\")","v":{"$error":"#REF!"}},{"$f":"VLOOKUP(B102,#REF!,15,FALSE)","v":{"$error":"#REF!"}},{"$f":"IF(#REF!=L102,\"对\",\"错\")","v":{"$error":"#REF!"}}]
[null,"阿坝农商银行松潘支行",1,2,1,4,null,{"$f":"VLOOKUP(B103,#REF!,13,FALSE)","v":{"$error":"#REF!"}},{"$error":"#REF!"},{"$f":"VLOOKUP(B103,#REF!,14,FALSE)","v":{"$error":"#REF!"}},{"$f":"IF(#REF!=J103,\"对\",\"错\")","v":{"$error":"#REF!"}},{"$f":"VLOOKUP(B103,#REF!,15,FALSE)","v":{"$error":"#REF!"}},{"$f":"IF(#REF!=L103,\"对\",\"错\")","v":{"$error":"#REF!"}}]
[null,"阿坝农商银行九寨沟支行",null,1,null,1,null,{"$f":"VLOOKUP(B104,#REF!,13,FALSE)","v":{"$error":"#REF!"}},{"$error":"#REF!"},{"$f":"VLOOKUP(B104,#REF!,14,FALSE)","v":{"$error":"#REF!"}},{"$f":"IF(#REF!=J104,\"对\",\"错\")","v":{"$error":"#REF!"}},{"$f":"VLOOKUP(B104,#REF!,15,FALSE)","v":{"$error":"#REF!"}},{"$f":"IF(#REF!=L104,\"对\",\"错\")","v":{"$error":"#REF!"}}]
[null,"阿坝农商银行黑水支行",null,1,1,2,null,{"$f":"VLOOKUP(B105,#REF!,13,FALSE)","v":{"$error":"#REF!"}},{"$error":"#REF!"},{"$f":"VLOOKUP(B105,#REF!,14,FALSE)","v":{"$error":"#REF!"}},{"$f":"IF(#REF!=J105,\"对\",\"错\")","v":{"$error":"#REF!"}},{"$f":"VLOOKUP(B105,#REF!,15,FALSE)","v":{"$error":"#REF!"}},{"$f":"IF(#REF!=L105,\"对\",\"错\")","v":{"$error":"#REF!"}}]
[null,"阿坝农商银行马尔康支行",1,2,2,5,null,{"$f":"VLOOKUP(B106,#REF!,13,FALSE)","v":{"$error":"#REF!"}},{"$error":"#REF!"},{"$f":"VLOOKUP(B106,#REF!,14,FALSE)","v":{"$error":"#REF!"}},{"$f":"IF(#REF!=J106,\"对\",\"错\")","v":{"$error":"#REF!"}},{"$f":"VLOOKUP(B106,#REF!,15,FALSE)","v":{"$error":"#REF!"}},{"$f":"IF(#REF!=L106,\"对\",\"错\")","v":{"$error":"#REF!"}}]
[null,"阿坝农商银行金川支行",null,2,1,3,null,{"$f":"VLOOKUP(B107,#REF!,13,FALSE)","v":{"$error":"#REF!"}},{"$error":"#REF!"},{"$f":"VLOOKUP(B107,#REF!,14,FALSE)","v":{"$error":"#REF!"}},{"$f":"IF(#REF!=J107,\"对\",\"错\")","v":{"$error":"#REF!"}},{"$f":"VLOOKUP(B107,#REF!,15,FALSE)","v":{"$error":"#REF!"}},{"$f":"IF(#REF!=L107,\"对\",\"错\")","v":{"$error":"#REF!"}}]
[null,"阿坝农商银行小金支行",1,1,null,2,null,{"$f":"VLOOKUP(B108,#REF!,13,FALSE)","v":{"$error":"#REF!"}},{"$error":"#REF!"},{"$f":"VLOOKUP(B108,#REF!,14,FALSE)","v":{"$error":"#REF!"}},{"$f":"IF(#REF!=J108,\"对\",\"错\")","v":{"$error":"#REF!"}},{"$f":"VLOOKUP(B108,#REF!,15,FALSE)","v":{"$error":"#REF!"}},{"$f":"IF(#REF!=L108,\"对\",\"错\")","v":{"$error":"#REF!"}}]
[null,"阿坝农商银行阿坝支行",null,1,1,2,null,{"$f":"VLOOKUP(B109,#REF!,13,FALSE)","v":{"$error":"#REF!"}},{"$error":"#REF!"},{"$f":"VLOOKUP(B109,#REF!,14,FALSE)","v":{"$error":"#REF!"}},{"$f":"IF(#REF!=J109,\"对\",\"错\")","v":{"$error":"#REF!"}},{"$f":"VLOOKUP(B109,#REF!,15,FALSE)","v":{"$error":"#REF!"}},{"$f":"IF(#REF!=L109,\"对\",\"错\")","v":{"$error":"#REF!"}}]
[null,"阿坝农商银行若尔盖支行",null,2,1,3,null,{"$f":"VLOOKUP(B110,#REF!,13,FALSE)","v":{"$error":"#REF!"}},{"$error":"#REF!"},{"$f":"VLOOKUP(B110,#REF!,14,FALSE)","v":{"$error":"#REF!"}},{"$f":"IF(#REF!=J110,\"对\",\"错\")","v":{"$error":"#REF!"}},{"$f":"VLOOKUP(B110,#REF!,15,FALSE)","v":{"$error":"#REF!"}},{"$f":"IF(#REF!=L110,\"对\",\"错\")","v":{"$error":"#REF!"}}]
[null,"阿坝农商银行红原支行",1,1,null,2,null,{"$f":"VLOOKUP(B111,#REF!,13,FALSE)","v":{"$error":"#REF!"}},{"$error":"#REF!"},{"$f":"VLOOKUP(B111,#REF!,14,FALSE)","v":{"$error":"#REF!"}},{"$f":"IF(#REF!=J111,\"对\",\"错\")","v":{"$error":"#REF!"}},{"$f":"VLOOKUP(B111,#REF!,15,FALSE)","v":{"$error":"#REF!"}},{"$f":"IF(#REF!=L111,\"对\",\"错\")","v":{"$error":"#REF!"}}]
[null,"阿坝农商银行壤塘支行",null,1,1,2,null,{"$f":"VLOOKUP(B112,#REF!,13,FALSE)","v":{"$error":"#REF!"}},{"$error":"#REF!"},{"$f":"VLOOKUP(B112,#REF!,14,FALSE)","v":{"$error":"#REF!"}},{"$f":"IF(#REF!=J112,\"对\",\"错\")","v":{"$error":"#REF!"}},{"$f":"VLOOKUP(B112,#REF!,15,FALSE)","v":{"$error":"#REF!"}},{"$f":"IF(#REF!=L112,\"对\",\"错\")","v":{"$error":"#REF!"}}]
["甘孜","甘孜农商银行康定支行",1,1,null,2,null,{"$f":"VLOOKUP(B113,#REF!,13,FALSE)","v":{"$error":"#REF!"}},{"$error":"#REF!"},{"$f":"VLOOKUP(B113,#REF!,14,FALSE)","v":{"$error":"#REF!"}},{"$f":"IF(#REF!=J113,\"对\",\"错\")","v":{"$error":"#REF!"}},{"$f":"VLOOKUP(B113,#REF!,15,FALSE)","v":{"$error":"#REF!"}},{"$f":"IF(#REF!=L113,\"对\",\"错\")","v":{"$error":"#REF!"}}]
[null,"甘孜农商银行泸定支行",1,null,null,1,null,{"$f":"VLOOKUP(B114,#REF!,13,FALSE)","v":{"$error":"#REF!"}},{"$error":"#REF!"},{"$f":"VLOOKUP(B114,#REF!,14,FALSE)","v":{"$error":"#REF!"}},{"$f":"IF(#REF!=J114,\"对\",\"错\")","v":{"$error":"#REF!"}},{"$f":"VLOOKUP(B114,#REF!,15,FALSE)","v":{"$error":"#REF!"}},{"$f":"IF(#REF!=L114,\"对\",\"错\")","v":{"$error":"#REF!"}}]
[null,"甘孜农商银行丹巴支行",null,null,1,1,null,{"$f":"VLOOKUP(B115,#REF!,13,FALSE)","v":{"$error":"#REF!"}},{"$error":"#REF!"},{"$f":"VLOOKUP(B115,#REF!,14,FALSE)","v":{"$error":"#REF!"}},{"$f":"IF(#REF!=J115,\"对\",\"错\")","v":{"$error":"#REF!"}},{"$f":"VLOOKUP(B115,#REF!,15,FALSE)","v":{"$error":"#REF!"}},{"$f":"IF(#REF!=L115,\"对\",\"错\")","v":{"$error":"#REF!"}}]
[null,"甘孜农商银行九龙支行",1,null,1,2,null,{"$f":"VLOOKUP(B116,#REF!,13,FALSE)","v":{"$error":"#REF!"}},{"$error":"#REF!"},{"$f":"VLOOKUP(B116,#REF!,14,FALSE)","v":{"$error":"#REF!"}},{"$f":"IF(#REF!=J116,\"对\",\"错\")","v":{"$error":"#REF!"}},{"$f":"VLOOKUP(B116,#REF!,15,FALSE)","v":{"$error":"#REF!"}},{"$f":"IF(#REF!=L116,\"对\",\"错\")","v":{"$error":"#REF!"}}]
[null,"甘孜农商银行道孚支行",null,1,null,1,null,{"$f":"VLOOKUP(B117,#REF!,13,FALSE)","v":{"$error":"#REF!"}},{"$error":"#REF!"},{"$f":"VLOOKUP(B117,#REF!,14,FALSE)","v":{"$error":"#REF!"}},{"$f":"IF(#REF!=J117,\"对\",\"错\")","v":{"$error":"#REF!"}},{"$f":"VLOOKUP(B117,#REF!,15,FALSE)","v":{"$error":"#REF!"}},{"$f":"IF(#REF!=L117,\"对\",\"错\")","v":{"$error":"#REF!"}}]
[null,"甘孜农商银行炉霍支行",null,1,null,1,null,{"$f":"VLOOKUP(B118,#REF!,13,FALSE)","v":{"$error":"#REF!"}},{"$error":"#REF!"},{"$f":"VLOOKUP(B118,#REF!,14,FALSE)","v":{"$error":"#REF!"}},{"$f":"IF(#REF!=J118,\"对\",\"错\")","v":{"$error":"#REF!"}},{"$f":"VLOOKUP(B118,#REF!,15,FALSE)","v":{"$error":"#REF!"}},{"$f":"IF(#REF!=L118,\"对\",\"错\")","v":{"$error":"#REF!"}}]
[null,"甘孜农商银行石渠支行",null,1,null,1,null,{"$f":"VLOOKUP(B119,#REF!,13,FALSE)","v":{"$error":"#REF!"}},{"$error":"#REF!"},{"$f":"VLOOKUP(B119,#REF!,14,FALSE)","v":{"$error":"#REF!"}},{"$f":"IF(#REF!=J119,\"对\",\"错\")","v":{"$error":"#REF!"}},{"$f":"VLOOKUP(B119,#REF!,15,FALSE)","v":{"$error":"#REF!"}},{"$f":"IF(#REF!=L119,\"对\",\"错\")","v":{"$error":"#REF!"}}]
[null,"甘孜农商银行德格支行",null,2,null,2,null,{"$f":"VLOOKUP(B120,#REF!,13,FALSE)","v":{"$error":"#REF!"}},{"$error":"#REF!"},{"$f":"VLOOKUP(B120,#REF!,14,FALSE)","v":{"$error":"#REF!"}},{"$f":"IF(#REF!=J120,\"对\",\"错\")","v":{"$error":"#REF!"}},{"$f":"VLOOKUP(B120,#REF!,15,FALSE)","v":{"$error":"#REF!"}},{"$f":"IF(#REF!=L120,\"对\",\"错\")","v":{"$error":"#REF!"}}]
[null,"甘孜农商银行白玉支行",null,1,null,1,null,{"$f":"VLOOKUP(B121,#REF!,13,FALSE)","v":{"$error":"#REF!"}},{"$error":"#REF!"},{"$f":"VLOOKUP(B121,#REF!,14,FALSE)","v":{"$error":"#REF!"}},{"$f":"IF(#REF!=J121,\"对\",\"错\")","v":{"$error":"#REF!"}},{"$f":"VLOOKUP(B121,#REF!,15,FALSE)","v":{"$error":"#REF!"}},{"$f":"IF(#REF!=L121,\"对\",\"错\")","v":{"$error":"#REF!"}}]
[null,"甘孜农商银行乡城支行",null,1,null,1,null,{"$f":"VLOOKUP(B122,#REF!,13,FALSE)","v":{"$error":"#REF!"}},{"$error":"#REF!"},{"$f":"VLOOKUP(B122,#REF!,14,FALSE)","v":{"$error":"#REF!"}},{"$f":"IF(#REF!=J122,\"对\",\"错\")","v":{"$error":"#REF!"}},{"$f":"VLOOKUP(B122,#REF!,15,FALSE)","v":{"$error":"#REF!"}},{"$f":"IF(#REF!=L122,\"对\",\"错\")","v":{"$error":"#REF!"}}]
[null,"甘孜农商银行得荣支行",null,1,1,2,null,{"$f":"VLOOKUP(B123,#REF!,13,FALSE)","v":{"$error":"#REF!"}},{"$error":"#REF!"},{"$f":"VLOOKUP(B123,#REF!,14,FALSE)","v":{"$error":"#REF!"}},{"$f":"IF(#REF!=J123,\"对\",\"错\")","v":{"$error":"#REF!"}},{"$f":"VLOOKUP(B123,#REF!,15,FALSE)","v":{"$error":"#REF!"}},{"$f":"IF(#REF!=L123,\"对\",\"错\")","v":{"$error":"#REF!"}}]
[null,"甘孜农商银行雅江支行",1,1,null,2,null,{"$f":"VLOOKUP(B124,#REF!,13,FALSE)","v":{"$error":"#REF!"}},{"$error":"#REF!"},{"$f":"VLOOKUP(B124,#REF!,14,FALSE)","v":{"$error":"#REF!"}},{"$f":"IF(#REF!=J124,\"对\",\"错\")","v":{"$error":"#REF!"}},{"$f":"VLOOKUP(B124,#REF!,15,FALSE)","v":{"$error":"#REF!"}},{"$f":"IF(#REF!=L124,\"对\",\"错\")","v":{"$error":"#REF!"}}]
[null,"甘孜农商银行甘孜支行",null,1,1,2,null,{"$f":"VLOOKUP(B125,#REF!,13,FALSE)","v":{"$error":"#REF!"}},{"$error":"#REF!"},{"$f":"VLOOKUP(B125,#REF!,14,FALSE)","v":{"$error":"#REF!"}},{"$f":"IF(#REF!=J125,\"对\",\"错\")","v":{"$error":"#REF!"}},{"$f":"VLOOKUP(B125,#REF!,15,FALSE)","v":{"$error":"#REF!"}},{"$f":"IF(#REF!=L125,\"对\",\"错\")","v":{"$error":"#REF!"}}]
[null,"甘孜农商银行色达支行",null,1,null,1,null,{"$f":"VLOOKUP(B126,#REF!,13,FALSE)","v":{"$error":"#REF!"}},{"$error":"#REF!"},{"$f":"VLOOKUP(B126,#REF!,14,FALSE)","v":{"$error":"#REF!"}},{"$f":"IF(#REF!=J126,\"对\",\"错\")","v":{"$error":"#REF!"}},{"$f":"VLOOKUP(B126,#REF!,15,FALSE)","v":{"$error":"#REF!"}},{"$f":"IF(#REF!=L126,\"对\",\"错\")","v":{"$error":"#REF!"}}]
[null,"甘孜农商银行新龙支行",null,1,null,1,null,{"$f":"VLOOKUP(B127,#REF!,13,FALSE)","v":{"$error":"#REF!"}},{"$error":"#REF!"},{"$f":"VLOOKUP(B127,#REF!,14,FALSE)","v":{"$error":"#REF!"}},{"$f":"IF(#REF!=J127,\"对\",\"错\")","v":{"$error":"#REF!"}},{"$f":"VLOOKUP(B127,#REF!,15,FALSE)","v":{"$error":"#REF!"}},{"$f":"IF(#REF!=L127,\"对\",\"错\")","v":{"$error":"#REF!"}}]
[null,"甘孜农商银行理塘支行",null,1,null,1,null,{"$f":"VLOOKUP(B128,#REF!,13,FALSE)","v":{"$error":"#REF!"}},{"$error":"#REF!"},{"$f":"VLOOKUP(B128,#REF!,14,FALSE)","v":{"$error":"#REF!"}},{"$f":"IF(#REF!=J128,\"对\",\"错\")","v":{"$error":"#REF!"}},{"$f":"VLOOKUP(B128,#REF!,15,FALSE)","v":{"$error":"#REF!"}},{"$f":"IF(#REF!=L128,\"对\",\"错\")","v":{"$error":"#REF!"}}]
[null,"甘孜农商银行巴塘支行",null,null,1,1,null,{"$f":"VLOOKUP(B129,#REF!,13,FALSE)","v":{"$error":"#REF!"}},{"$error":"#REF!"},{"$f":"VLOOKUP(B129,#REF!,14,FALSE)","v":{"$error":"#REF!"}},{"$f":"IF(#REF!=J129,\"对\",\"错\")","v":{"$error":"#REF!"}},{"$f":"VLOOKUP(B129,#REF!,15,FALSE)","v":{"$error":"#REF!"}},{"$f":"IF(#REF!=L129,\"对\",\"错\")","v":{"$error":"#REF!"}}]
[null,"甘孜农商银行稻城支行",null,null,1,1,null,{"$f":"VLOOKUP(B130,#REF!,13,FALSE)","v":{"$error":"#REF!"}},{"$error":"#REF!"},{"$f":"VLOOKUP(B130,#REF!,14,FALSE)","v":{"$error":"#REF!"}},{"$f":"IF(#REF!=J130,\"对\",\"错\")","v":{"$error":"#REF!"}},{"$f":"VLOOKUP(B130,#REF!,15,FALSE)","v":{"$error":"#REF!"}},{"$f":"IF(#REF!=L130,\"对\",\"错\")","v":{"$error":"#REF!"}}]
["凉山","凉山农商银行冕宁支行",null,2,1,3,null,{"$f":"VLOOKUP(B131,#REF!,13,FALSE)","v":{"$error":"#REF!"}},{"$f":"IF(C131=H131,\"对\",\"错\")","v":{"$error":"#REF!"}},{"$f":"VLOOKUP(B131,#REF!,14,FALSE)","v":{"$error":"#REF!"}},{"$f":"IF(#REF!=J131,\"对\",\"错\")","v":{"$error":"#REF!"}},{"$f":"VLOOKUP(B131,#REF!,15,FALSE)","v":{"$error":"#REF!"}},{"$f":"IF(#REF!=L131,\"对\",\"错\")","v":{"$error":"#REF!"}}]
[null,"凉山农商银行德昌支行",null,4,2,6,null,{"$f":"VLOOKUP(B132,#REF!,13,FALSE)","v":{"$error":"#REF!"}},{"$error":"#REF!"},{"$f":"VLOOKUP(B132,#REF!,14,FALSE)","v":{"$error":"#REF!"}},{"$f":"IF(#REF!=J132,\"对\",\"错\")","v":{"$error":"#REF!"}},{"$f":"VLOOKUP(B132,#REF!,15,FALSE)","v":{"$error":"#REF!"}},{"$f":"IF(#REF!=L132,\"对\",\"错\")","v":{"$error":"#REF!"}}]
[null,"凉山农商银行会理支行",1,1,1,3,null,{"$f":"VLOOKUP(B133,#REF!,13,FALSE)","v":{"$error":"#REF!"}},{"$error":"#REF!"},{"$f":"VLOOKUP(B133,#REF!,14,FALSE)","v":{"$error":"#REF!"}},{"$f":"IF(#REF!=J133,\"对\",\"错\")","v":{"$error":"#REF!"}},{"$f":"VLOOKUP(B133,#REF!,15,FALSE)","v":{"$error":"#REF!"}},{"$f":"IF(#REF!=L133,\"对\",\"错\")","v":{"$error":"#REF!"}}]
[null,"凉山农商银行会东支行",1,4,2,{"$f":"C134+D134+E134","v":7},null,{"$f":"VLOOKUP(B134,#REF!,13,FALSE)","v":{"$error":"#REF!"}},{"$error":"#REF!"},{"$f":"VLOOKUP(B134,#REF!,14,FALSE)","v":{"$error":"#REF!"}},{"$f":"IF(#REF!=J134,\"对\",\"错\")","v":{"$error":"#REF!"}},{"$f":"VLOOKUP(B134,#REF!,15,FALSE)","v":{"$error":"#REF!"}},{"$f":"IF(#REF!=L134,\"对\",\"错\")","v":{"$error":"#REF!"}}]
[null,"凉山农商银行宁南支行",null,1,1,{"$f":"C135+D135+E135","v":2},null,{"$f":"VLOOKUP(B135,#REF!,13,FALSE)","v":{"$error":"#REF!"}},{"$error":"#REF!"},{"$f":"VLOOKUP(B135,#REF!,14,FALSE)","v":{"$error":"#REF!"}},{"$f":"IF(#REF!=J135,\"对\",\"错\")","v":{"$error":"#REF!"}},{"$f":"VLOOKUP(B135,#REF!,15,FALSE)","v":{"$error":"#REF!"}},{"$f":"IF(#REF!=L135,\"对\",\"错\")","v":{"$error":"#REF!"}}]
[null,"凉山农商银行盐源支行",1,2,1,{"$f":"C136+D136+E136","v":4},null,{"$f":"VLOOKUP(B136,#REF!,13,FALSE)","v":{"$error":"#REF!"}},{"$error":"#REF!"},{"$f":"VLOOKUP(B136,#REF!,14,FALSE)","v":{"$error":"#REF!"}},{"$f":"IF(#REF!=J136,\"对\",\"错\")","v":{"$error":"#REF!"}},{"$f":"VLOOKUP(B136,#REF!,15,FALSE)","v":{"$error":"#REF!"}},{"$f":"IF(#REF!=L136,\"对\",\"错\")","v":{"$error":"#REF!"}}]
[null,"凉山农商银行木里支行",null,4,1,{"$f":"C137+D137+E137","v":5},null,{"$f":"VLOOKUP(B137,#REF!,13,FALSE)","v":{"$error":"#REF!"}},{"$error":"#REF!"},{"$f":"VLOOKUP(B137,#REF!,14,FALSE)","v":{"$error":"#REF!"}},{"$f":"IF(#REF!=J137,\"对\",\"错\")","v":{"$error":"#REF!"}},{"$f":"VLOOKUP(B137,#REF!,15,FALSE)","v":{"$error":"#REF!"}},{"$f":"IF(#REF!=L137,\"对\",\"错\")","v":{"$error":"#REF!"}}]
[null,"凉山农商银行普格支行",null,3,1,{"$f":"C138+D138+E138","v":4},null,{"$f":"VLOOKUP(B138,#REF!,13,FALSE)","v":{"$error":"#REF!"}},{"$error":"#REF!"},{"$f":"VLOOKUP(B138,#REF!,14,FALSE)","v":{"$error":"#REF!"}},{"$f":"IF(#REF!=J138,\"对\",\"错\")","v":{"$error":"#REF!"}},{"$f":"VLOOKUP(B138,#REF!,15,FALSE)","v":{"$error":"#REF!"}},{"$f":"IF(#REF!=L138,\"对\",\"错\")","v":{"$error":"#REF!"}}]
[null,"凉山农商银行布拖支行",null,2,1,{"$f":"C139+D139+E139","v":3},null,{"$f":"VLOOKUP(B139,#REF!,13,FALSE)","v":{"$error":"#REF!"}},{"$error":"#REF!"},{"$f":"VLOOKUP(B139,#REF!,14,FALSE)","v":{"$error":"#REF!"}},{"$f":"IF(#REF!=J139,\"对\",\"错\")","v":{"$error":"#REF!"}},{"$f":"VLOOKUP(B139,#REF!,15,FALSE)","v":{"$error":"#REF!"}},{"$f":"IF(#REF!=L139,\"对\",\"错\")","v":{"$error":"#REF!"}}]
[null,"凉山农商银行昭觉支行",null,5,1,{"$f":"C140+D140+E140","v":6},null,{"$f":"VLOOKUP(B140,#REF!,13,FALSE)","v":{"$error":"#REF!"}},{"$error":"#REF!"},{"$f":"VLOOKUP(B140,#REF!,14,FALSE)","v":{"$error":"#REF!"}},{"$f":"IF(#REF!=J140,\"对\",\"错\")","v":{"$error":"#REF!"}},{"$f":"VLOOKUP(B140,#REF!,15,FALSE)","v":{"$error":"#REF!"}},{"$f":"IF(#REF!=L140,\"对\",\"错\")","v":{"$error":"#REF!"}}]
[null,"凉山农商银行金阳支行",null,4,1,{"$f":"C141+D141+E141","v":5},null,{"$f":"VLOOKUP(B141,#REF!,13,FALSE)","v":{"$error":"#REF!"}},{"$error":"#REF!"},{"$f":"VLOOKUP(B141,#REF!,14,FALSE)","v":{"$error":"#REF!"}},{"$f":"IF(#REF!=J141,\"对\",\"错\")","v":{"$error":"#REF!"}},{"$f":"VLOOKUP(B141,#REF!,15,FALSE)","v":{"$error":"#REF!"}},{"$f":"IF(#REF!=L141,\"对\",\"错\")","v":{"$error":"#REF!"}}]
[null,"凉山农商银行美姑支行",null,4,1,{"$f":"C142+D142+E142","v":5},null,{"$f":"VLOOKUP(B142,#REF!,13,FALSE)","v":{"$error":"#REF!"}},{"$error":"#REF!"},{"$f":"VLOOKUP(B142,#REF!,14,FALSE)","v":{"$error":"#REF!"}},{"$f":"IF(#REF!=J142,\"对\",\"错\")","v":{"$error":"#REF!"}},{"$f":"VLOOKUP(B142,#REF!,15,FALSE)","v":{"$error":"#REF!"}},{"$f":"IF(#REF!=L142,\"对\",\"错\")","v":{"$error":"#REF!"}}]
[null,"凉山农商银行雷波支行",null,5,1,{"$f":"C143+D143+E143","v":6},null,{"$f":"VLOOKUP(B143,#REF!,13,FALSE)","v":{"$error":"#REF!"}},{"$error":"#REF!"},{"$f":"VLOOKUP(B143,#REF!,14,FALSE)","v":{"$error":"#REF!"}},{"$f":"IF(#REF!=J143,\"对\",\"错\")","v":{"$error":"#REF!"}},{"$f":"VLOOKUP(B143,#REF!,15,FALSE)","v":{"$error":"#REF!"}},{"$f":"IF(#REF!=L143,\"对\",\"错\")","v":{"$error":"#REF!"}}]
[null,"凉山农商银行喜德支行",null,2,1,{"$f":"C144+D144+E144","v":3},null,{"$f":"VLOOKUP(B144,#REF!,13,FALSE)","v":{"$error":"#REF!"}},{"$error":"#REF!"},{"$f":"VLOOKUP(B144,#REF!,14,FALSE)","v":{"$error":"#REF!"}},{"$f":"IF(#REF!=J144,\"对\",\"错\")","v":{"$error":"#REF!"}},{"$f":"VLOOKUP(B144,#REF!,15,FALSE)","v":{"$error":"#REF!"}},{"$f":"IF(#REF!=L144,\"对\",\"错\")","v":{"$error":"#REF!"}}]
[null,"凉山农商银行越西支行",null,4,1,{"$f":"C145+D145+E145","v":5},null,{"$f":"VLOOKUP(B145,#REF!,13,FALSE)","v":{"$error":"#REF!"}},{"$error":"#REF!"},{"$f":"VLOOKUP(B145,#REF!,14,FALSE)","v":{"$error":"#REF!"}},{"$f":"IF(#REF!=J145,\"对\",\"错\")","v":{"$error":"#REF!"}},{"$f":"VLOOKUP(B145,#REF!,15,FALSE)","v":{"$error":"#REF!"}},{"$f":"IF(#REF!=L145,\"对\",\"错\")","v":{"$error":"#REF!"}}]
[null,"凉山农商银行甘洛支行",null,1,1,{"$f":"C146+D146+E146","v":2},null,{"$f":"VLOOKUP(B146,#REF!,13,FALSE)","v":{"$error":"#REF!"}},{"$error":"#REF!"},{"$f":"VLOOKUP(B146,#REF!,14,FALSE)","v":{"$error":"#REF!"}},{"$f":"IF(#REF!=J146,\"对\",\"错\")","v":{"$error":"#REF!"}},{"$f":"VLOOKUP(B146,#REF!,15,FALSE)","v":{"$error":"#REF!"}},{"$f":"IF(#REF!=L146,\"对\",\"错\")","v":{"$error":"#REF!"}}]
[null,"凉山农商银行西昌支行",1,7,2,{"$f":"C147+D147+E147","v":10},null,{"$f":"VLOOKUP(B147,#REF!,13,FALSE)","v":{"$error":"#REF!"}},{"$error":"#REF!"},{"$f":"VLOOKUP(B147,#REF!,14,FALSE)","v":{"$error":"#REF!"}},{"$f":"IF(#REF!=J147,\"对\",\"错\")","v":{"$error":"#REF!"}},{"$f":"VLOOKUP(B147,#REF!,15,FALSE)","v":{"$error":"#REF!"}},{"$f":"IF(#REF!=L147,\"对\",\"错\")","v":{"$error":"#REF!"}}]
["合计",null,{"$f":"SUM(C5:C147)","v":113},{"$f":"SUM(D5:D147)","v":736},{"$f":"SUM(E5:E147)","v":216},{"$f":"C148+D148+E148","v":1065}]